BEGIN:VCALENDAR
VERSION:2.0
PRODID:-//Engineers Geoscientists Manitoba - India Members Chapter - ECPv6.15.20//NONSGML v1.0//EN
CALSCALE:GREGORIAN
METHOD:PUBLISH
X-ORIGINAL-URL:https://egmindiachapter.ca
X-WR-CALDESC:Events for Engineers Geoscientists Manitoba - India Members Chapter
REFRESH-INTERVAL;VALUE=DURATION:PT1H
X-Robots-Tag:noindex
X-PUBLISHED-TTL:PT1H
BEGIN:VTIMEZONE
TZID:America/Winnipeg
BEGIN:DAYLIGHT
TZOFFSETFROM:-0600
TZOFFSETTO:-0500
TZNAME:CDT
DTSTART:20230312T080000
END:DAYLIGHT
BEGIN:STANDARD
TZOFFSETFROM:-0500
TZOFFSETTO:-0600
TZNAME:CST
DTSTART:20231105T070000
END:STANDARD
BEGIN:DAYLIGHT
TZOFFSETFROM:-0600
TZOFFSETTO:-0500
TZNAME:CDT
DTSTART:20240310T080000
END:DAYLIGHT
BEGIN:STANDARD
TZOFFSETFROM:-0500
TZOFFSETTO:-0600
TZNAME:CST
DTSTART:20241103T070000
END:STANDARD
BEGIN:DAYLIGHT
TZOFFSETFROM:-0600
TZOFFSETTO:-0500
TZNAME:CDT
DTSTART:20250309T080000
END:DAYLIGHT
BEGIN:STANDARD
TZOFFSETFROM:-0500
TZOFFSETTO:-0600
TZNAME:CST
DTSTART:20251102T070000
END:STANDARD
END:VTIMEZONE
BEGIN:VEVENT
DTSTART;TZID=America/Winnipeg:20240919T180000
DTEND;TZID=America/Winnipeg:20240919T190000
DTSTAMP:20260424T184325
CREATED:20240818T231440Z
LAST-MODIFIED:20240904T164441Z
UID:4828-1726768800-1726772400@egmindiachapter.ca
SUMMARY:Using RPA/AI in workflow and process automation (in-person)
DESCRIPTION:Using RPA/AI in workflow and process automation (in-person)\nBy Preetinder Singh \nBIO –  Preetinder Singh works as a Business Development Manager at Xerox Canada. His field of work centres around digital transformation. In his role\, Preet focuses on furthering workflow optimization and process automation by leveraging technologies such as RPA (robotic process automation)/AI\, AP automation\, SXM and communications management to reduce operational costs\, drive employee productivity and improve customer experience. \nABSTRACT – Organizations seek to use digital services to positively impact today’s work environments by leveraging technologies such as Robotic Process Automation (RPA) and AI. These digital innovations streamline workflows\, automate repetitive tasks\, and enable seamless collaboration across distributed teams. Integrating RPA & AI into repetitive workflows enhances operational efficiency and flexibility\, allowing organizations to adapt quickly to hybrid work models and meet evolving customer demands. This transformation supports improved productivity\, better ROI\, and effective communication\, ultimately fostering a more dynamic and resilient hybrid work ecosystem. \nCost: Free \nNote: Packaged food will be provided.
URL:https://egmindiachapter.ca/event/using-rpa-ai-in-workflow-and-process-automation-in-person/
LOCATION:Engineers Geoscientists Manitoba office\, 870 Pembina Highway\, Winnipeg\, MB\, R3M 2M7\, Canada
CATEGORIES:PD Events
ATTACH;FMTTYPE=image/png:https://egmindiachapter.ca/wp-content/uploads/2024/08/Updated-Poster-1.png
ORGANIZER;CN="India Members Chapter - EGM":MAILTO:egmindiachapter@gmail.com
END:VEVENT
END:VCALENDAR